BEGIN:VCALENDAR
VERSION:2.0
PRODID:mafm.hkust.edu.hk
BEGIN:VEVENT
UID:69e575bc72872
DTSTART:20171016T190000Z
SEQUENCE:0
TRANSP:OPAQUE
DTEND:20171016T200000Z
SUMMARY:Introduction of Stock Competition Jointly Organized by Yunfeng\, Si
 na and HKEx
CLASS:PUBLIC
DESCRIPTION:Introduction of Stock Competition Jointly Organized by Yunfeng\
 , Sina and HKEx
DTSTAMP:20260420T003924Z
END:VEVENT
END:VCALENDAR